BEGIN:VCALENDAR
VERSION:2.0
PRODID:DPCALENDAR
CALSCALE:GREGORIAN
BEGIN:VTIMEZONE
TZID:UTC
X-MICROSOFT-CDO-TZID:0
END:VTIMEZONE
X-WR-TIMEZONE:UTC
BEGIN:VEVENT
DTSTART;TZID=UTC:20210925T080000
DTEND;TZID=UTC:20210925T150000
UID:C601D73F-BD4A-4F71-994C-67687F07D775
SUMMARY:Kinosaal reserveeritud
DTSTAMP:20210816T090526Z
DESCRIPTION:
X-ALT-DESC;FMTTYPE=text/html:
LAST-MODIFIED:20210816T090605Z
X-ACCESS:1
X-HITS:741
X-URL:
X-COLOR:8E31CC
END:VEVENT
END:VCALENDAR