BEGIN:VCALENDAR
VERSION:2.0
PRODID:DPCALENDAR
CALSCALE:GREGORIAN
BEGIN:VTIMEZONE
TZID:UTC
X-MICROSOFT-CDO-TZID:0
END:VTIMEZONE
X-WR-TIMEZONE:UTC
BEGIN:VEVENT
DTSTART;TZID=UTC:20211024T170000
DTEND;TZID=UTC:20211024T183000
UID:C159EE56-4103-41B1-8D37-7072D274C38C
SUMMARY:HARAKAPOEG PINGVIIN
DTSTAMP:20211011T125505Z
DESCRIPTION:
X-ALT-DESC;FMTTYPE=text/html:
X-ACCESS:1
X-HITS:651
X-URL:
X-COLOR:23BA18
END:VEVENT
END:VCALENDAR