BEGIN:VCALENDAR
VERSION:2.0
PRODID:DPCALENDAR
CALSCALE:GREGORIAN
BEGIN:VTIMEZONE
TZID:UTC
X-MICROSOFT-CDO-TZID:0
END:VTIMEZONE
X-WR-TIMEZONE:UTC
BEGIN:VEVENT
DTSTART;TZID=UTC:20220709T100000
DTEND;TZID=UTC:20220709T150000
UID:8CFC41D3-409C-4698-800B-191036E4869B
SUMMARY:Suvine käsitöö ja omatoodangu laat Vabrikuväljakul
DTSTAMP:20220127T101000Z
DESCRIPTION:Suvine käsitöö- ja omatoodangu laat\N\NVabrikuväljak, Kärdla \N\NKell 10:00-15:00\N\NKauplema on oodatud kõik, kelle poolt pakutav on ehe ja eestimaine.\N\NLaadal on kultuuriprogramm ja õnneloos.\N\NMüüjaid ootame laadaplatsile alates 8:00\N\NInfo ja registreerimine:\N\NNele Eller 5166553, nele.eller@gmail.com\N
X-ALT-DESC;FMTTYPE=text/html:<p><strong>Suvine käsitöö- ja omatoodangu laat</strong></p><p>Vabrikuväljak, Kärdla&nbsp;</p><p>Kell 10:00-15:00</p><p>Kauplema on oodatud kõik, kelle poolt pakutav on ehe ja eestimaine.</p><p>Laadal on kultuuriprogramm ja õnneloos.</p><p>Müüjaid ootame laadaplatsile alates 8:00</p><p>Info ja registreerimine:</p><p>Nele Eller 5166553,&nbsp;<a data-auth="NotApplicable" data-linkindex="0" href="mailto:nele.eller@gmail.com" rel="noopener noreferrer" target="_blank">nele.eller@gmail.com</a></p>
LAST-MODIFIED:20220427T143336Z
X-ACCESS:1
X-HITS:695
X-URL:
X-COLOR:8E31CC
END:VEVENT
END:VCALENDAR