BEGIN:VCALENDAR
VERSION:2.0
PRODID:DPCALENDAR
CALSCALE:GREGORIAN
BEGIN:VTIMEZONE
TZID:UTC
X-MICROSOFT-CDO-TZID:0
END:VTIMEZONE
X-WR-TIMEZONE:UTC
BEGIN:VEVENT
DTSTART;TZID=UTC:20220518T173000
DTEND;TZID=UTC:20220518T190000
UID:D30CF5F5-928E-4466-85AA-89F876447E63
SUMMARY:Siil Sonic 2
DTSTAMP:20220503T102338Z
DESCRIPTION:
X-ALT-DESC;FMTTYPE=text/html:
LAST-MODIFIED:20220518T070802Z
X-ACCESS:1
X-HITS:788
X-URL:
X-COLOR:23BA18
END:VEVENT
END:VCALENDAR