BEGIN:VCALENDAR
VERSION:2.0
PRODID:DPCALENDAR
CALSCALE:GREGORIAN
BEGIN:VTIMEZONE
TZID:UTC
X-MICROSOFT-CDO-TZID:0
END:VTIMEZONE
X-WR-TIMEZONE:UTC
BEGIN:VEVENT
DTSTART;TZID=UTC:20220702T041000
DTEND;TZID=UTC:20220702T213000
UID:3589ECCD-2522-426E-97C4-C118769ACBF8
SUMMARY:Hiiumaa kirjandusfestival Kärdla sadamas
DTSTAMP:20220622T080135Z
DESCRIPTION:https://hiiumaa.ee/kirjandusfestival2022/\N\NLaupäev, 2. JUULI\N\N \N\NKell 4.10 Päikesetõusu tervitus Kärdla sadamas\N\N9.00, 11.00, 13.00, 15.00, 17.00, 19.00 Kirjandussutsakad merele\N\NSuur telk\N10.00 -17.00 Kirjastused, saatkonnad ja kultuuriinstituudid, Rahvusraamatukogu, Hiiumaa raamatukogud\N\NPealava\N11.00 – Hiiumaa kirjandus: Jegard Kõmmus “Meremees jutustab” II osa raamatu esitlus\N12.00 – Taani kirjandus: Eva Velsker  ja Andres Adamson\N13.00 – Norra kirjandus: Øyvind Rangøy\N14.00 – Rootsi kirjandus\N15.00 – Soome kirjandus: Ville Hytönen, vestleb Heidi Iivari\N16.30 – 17.15 Andres Adamson „Nõid Mats“ raamatu esitlus, vestleb Piret Saluri\N17.30 Muusikaline särin\N\NSadama sauna eesruum: töötoad\N11.00 – 12.45 kuidas kaunilt kirjutada? –Tatjana Jakovleva ja Anatoli Ljutjuk (Ukraina Kultuurikeskus, Tallinna Kalligraafia Kool)\N\N13.00 – 14.45 kuidas kirjutada koomiksit? – Joonas Sildre\N\NPaadikuur: töötoad-vestlused\N15.00 – 15.45 kuidas tõlkida raamatut? – Piret Saluri\N16.00 – 16.45 kuidas kirjutada raamatut? – Jaan Tootsen\N17.00 – 18.00 kuidas kirjutada ja luuletada kahes keeles – Heidi Iivari (Soome) ja Øyvind Rangøy (Norra)\N\NBaabade kohvik, Vabrikuväljakul\N16.00  – Siiri Julge “Igatsus” (kirjastus Eesti Raamat)\N\NYachts Service Elling:\N19.00 Etendus  “…ja Margus Nõukogude Armeest”\N\NKärdla sadamas avatud lugemisala\N\NSuuremõisa lossis eriprogramm ja lasteprogramm\NReigi pastoraadis avatud näitus Genius Loci\N\N \N
X-ALT-DESC;FMTTYPE=text/html:<p><a href="https://hiiumaa.ee/kirjandusfestival2022/" title="">https://hiiumaa.ee/kirjandusfestival2022/</a></p><h6><u><strong>Laupäev, 2. JUULI</strong></u></h6><p>&nbsp;</p><p>Kell 4.10 Päikesetõusu tervitus Kärdla sadamas</p><p>9.00, 11.00, 13.00, 15.00, 17.00, 19.00 Kirjandussutsakad merele</p><p><u><strong>Suur telk</strong></u><br />10.00 -17.00 Kirjastused, saatkonnad ja kultuuriinstituudid, Rahvusraamatukogu, Hiiumaa raamatukogud</p><p><u><strong>Pealava</strong></u><br />11.00 – Hiiumaa kirjandus: Jegard Kõmmus “Meremees jutustab” II osa raamatu esitlus<br />12.00 – Taani kirjandus: Eva Velsker &nbsp;ja Andres Adamson<br />13.00 – Norra kirjandus: Øyvind Rangøy<br />14.00 – Rootsi kirjandus<br />15.00 – Soome kirjandus: Ville Hytönen, vestleb Heidi Iivari<br />16.30 – 17.15 Andres Adamson „Nõid Mats“ raamatu esitlus, vestleb Piret Saluri<br />17.30 Muusikaline särin</p><p><u><strong>Sadama sauna eesruum: töötoad</strong></u><br />11.00 – 12.45 kuidas kaunilt kirjutada? –Tatjana Jakovleva ja Anatoli Ljutjuk (Ukraina Kultuurikeskus, Tallinna Kalligraafia Kool)</p><p>13.00 – 14.45 kuidas kirjutada koomiksit? – Joonas Sildre</p><p><strong><u>Paadikuur:</u></strong> töötoad-vestlused<br />15.00 – 15.45 kuidas tõlkida raamatut? – Piret Saluri<br />16.00 – 16.45 kuidas kirjutada raamatut? – Jaan Tootsen<br />17.00 – 18.00 kuidas kirjutada ja luuletada kahes keeles – Heidi Iivari (Soome) ja Øyvind Rangøy (Norra)</p><p><u><strong>Baabade kohvik, Vabrikuväljakul</strong></u><br />16.00 &nbsp;– Siiri Julge “Igatsus” (kirjastus Eesti Raamat)</p><p><u><strong>Yachts Service Elling:</strong></u><br />19.00 Etendus&nbsp; “…ja Margus Nõukogude Armeest”</p><p>Kärdla sadamas avatud lugemisala</p><p>Suuremõisa lossis eriprogramm ja lasteprogramm<br />Reigi pastoraadis avatud näitus Genius Loci</p><p>&nbsp;</p>
X-ACCESS:1
X-HITS:638
X-URL:
X-COLOR:8E31CC
END:VEVENT
END:VCALENDAR