BEGIN:VCALENDAR
VERSION:2.0
PRODID:DPCALENDAR
CALSCALE:GREGORIAN
BEGIN:VTIMEZONE
TZID:UTC
X-MICROSOFT-CDO-TZID:0
END:VTIMEZONE
X-WR-TIMEZONE:UTC
BEGIN:VEVENT
DTSTART;TZID=UTC:20220703T190000
DTEND;TZID=UTC:20220703T213900
UID:3C256AE1-68FE-4C32-BA51-3A4B2C157EC7
SUMMARY:ELVIS
DTSTAMP:20220629T111202Z
DESCRIPTION:
X-ALT-DESC;FMTTYPE=text/html:
LAST-MODIFIED:20220701T114534Z
X-ACCESS:1
X-HITS:517
X-URL:
X-COLOR:23BA18
END:VEVENT
END:VCALENDAR