BEGIN:VCALENDAR
VERSION:2.0
PRODID:DPCALENDAR
CALSCALE:GREGORIAN
BEGIN:VTIMEZONE
TZID:UTC
X-MICROSOFT-CDO-TZID:0
END:VTIMEZONE
X-WR-TIMEZONE:UTC
BEGIN:VEVENT
DTSTART;TZID=UTC:20221127T180000
DTEND;TZID=UTC:20221127T193000
UID:E58573CC-2EB0-4EB3-BAF4-766C71C8AB7D
SUMMARY:VEIDER MAAILM
DTSTAMP:20221102T151826Z
DESCRIPTION:
X-ALT-DESC;FMTTYPE=text/html:
X-ACCESS:1
X-HITS:437
X-URL:
X-COLOR:23BA18
END:VEVENT
END:VCALENDAR