BEGIN:VCALENDAR
VERSION:2.0
PRODID:DPCALENDAR
CALSCALE:GREGORIAN
BEGIN:VTIMEZONE
TZID:UTC
X-MICROSOFT-CDO-TZID:0
END:VTIMEZONE
X-WR-TIMEZONE:UTC
BEGIN:VEVENT
DTSTART;TZID=UTC:20221210T103000
DTEND;TZID=UTC:20221210T120000
UID:A69C42CD-B65C-467A-AF34-4BDBCF94C741
SUMMARY:ERIK KIVISÜDA
DTSTAMP:20221124T122731Z
DESCRIPTION:
X-ALT-DESC;FMTTYPE=text/html:
X-ACCESS:1
X-HITS:443
X-URL:
X-COLOR:23BA18
END:VEVENT
END:VCALENDAR