BEGIN:VCALENDAR
VERSION:2.0
PRODID:DPCALENDAR
CALSCALE:GREGORIAN
BEGIN:VTIMEZONE
TZID:UTC
X-MICROSOFT-CDO-TZID:0
END:VTIMEZONE
X-WR-TIMEZONE:UTC
BEGIN:VEVENT
DTSTART;TZID=UTC:20230128T193000
DTEND;TZID=UTC:20230128T200000
UID:CAE848DA-26F3-4B5D-8CE7-49FA6651A888
SUMMARY:Kinosaal reserveeritud
DTSTAMP:20230103T123911Z
DESCRIPTION:
X-ALT-DESC;FMTTYPE=text/html:
X-ACCESS:1
X-HITS:412
X-URL:
X-COLOR:23BA18
END:VEVENT
END:VCALENDAR