BEGIN:VCALENDAR
VERSION:2.0
PRODID:DPCALENDAR
CALSCALE:GREGORIAN
BEGIN:VTIMEZONE
TZID:UTC
X-MICROSOFT-CDO-TZID:0
END:VTIMEZONE
X-WR-TIMEZONE:UTC
BEGIN:VEVENT
DTSTART;VALUE=DATE:20240603
DTEND;VALUE=DATE:20240610
UID:7F96AAE5-D450-4640-BB5D-6BCE8B46EEED
SUMMARY:Euroopa parlamendi valimised
DTSTAMP:20240213T111738Z
DESCRIPTION:
X-ALT-DESC;FMTTYPE=text/html:
X-ACCESS:1
X-HITS:606
X-URL:
X-COLOR:8E31CC
END:VEVENT
END:VCALENDAR