BEGIN:VCALENDAR
VERSION:2.0
PRODID:DPCALENDAR
CALSCALE:GREGORIAN
BEGIN:VTIMEZONE
TZID:UTC
X-MICROSOFT-CDO-TZID:0
END:VTIMEZONE
X-WR-TIMEZONE:UTC
BEGIN:VEVENT
DTSTART;TZID=UTC:20240418T173000
DTEND;TZID=UTC:20240418T190000
UID:B13A0317-B455-4626-AD20-CDD42C73B611
SUMMARY:TONDIPÜÜDJAD: JÄINE SUVI
DTSTAMP:20240328T140442Z
DESCRIPTION:
X-ALT-DESC;FMTTYPE=text/html:
X-ACCESS:1
X-HITS:289
X-URL:
X-COLOR:23BA18
END:VEVENT
END:VCALENDAR