BEGIN:VCALENDAR
VERSION:2.0
PRODID:DPCALENDAR
CALSCALE:GREGORIAN
BEGIN:VTIMEZONE
TZID:UTC
X-MICROSOFT-CDO-TZID:0
END:VTIMEZONE
X-WR-TIMEZONE:UTC
BEGIN:VEVENT
DTSTART;TZID=UTC:20240608T180000
DTEND;TZID=UTC:20240608T200000
UID:CCBF72F2-FF67-49CA-AAC7-E2E4597069F0
SUMMARY: Euroopa kinopubliku auhinna LUX  nominent „20 000 liiki mesilasi“ 
DTSTAMP:20240508T143747Z
DESCRIPTION: Euroopa kinopubliku auhinna LUX  nominent „20 000 liiki mesilasi“ (režissöör Estibaliz Urresola Solaguren, Hispaania)\N
X-ALT-DESC;FMTTYPE=text/html:<p>&nbsp;Euroopa kinopubliku auhinna LUX&nbsp; nominent <strong>„20 000 liiki mesilasi“</strong> (režissöör Estibaliz Urresola Solaguren, Hispaania)</p>
LAST-MODIFIED:20240604T103916Z
X-ACCESS:1
X-HITS:342
X-URL:
X-COLOR:23BA18
END:VEVENT
END:VCALENDAR