BEGIN:VCALENDAR
VERSION:2.0
PRODID:DPCALENDAR
CALSCALE:GREGORIAN
BEGIN:VTIMEZONE
TZID:UTC
X-MICROSOFT-CDO-TZID:0
END:VTIMEZONE
X-WR-TIMEZONE:UTC
BEGIN:VEVENT
DTSTART;TZID=UTC:20241103T180000
DTEND;TZID=UTC:20241103T193000
UID:B207056A-AC07-4798-B72D-2BF33ADA36F7
SUMMARY:MANTLIPÄRIJA: TRUMPI LUGU
DTSTAMP:20241031T114310Z
DESCRIPTION:
X-ALT-DESC;FMTTYPE=text/html:
X-ACCESS:1
X-HITS:108
X-URL:
X-COLOR:23BA18
END:VEVENT
END:VCALENDAR