BEGIN:VCALENDAR
VERSION:2.0
PRODID:DPCALENDAR
CALSCALE:GREGORIAN
BEGIN:VTIMEZONE
TZID:UTC
X-MICROSOFT-CDO-TZID:0
END:VTIMEZONE
X-WR-TIMEZONE:UTC
BEGIN:VEVENT
DTSTART;TZID=UTC:20241214T103000
DTEND;TZID=UTC:20241214T121000
UID:2D3E7A14-9E39-448E-A3C8-4D214BF4DF35
SUMMARY:VAIANA 2
DTSTAMP:20241129T092140Z
DESCRIPTION:
X-ALT-DESC;FMTTYPE=text/html:
X-ACCESS:1
X-HITS:198
X-URL:
X-COLOR:23BA18
END:VEVENT
END:VCALENDAR