BEGIN:VCALENDAR
VERSION:2.0
PRODID:DPCALENDAR
CALSCALE:GREGORIAN
BEGIN:VTIMEZONE
TZID:UTC
X-MICROSOFT-CDO-TZID:0
END:VTIMEZONE
X-WR-TIMEZONE:UTC
BEGIN:VEVENT
DTSTART;TZID=UTC:20250111T130000
DTEND;TZID=UTC:20250111T150000
UID:702822C5-44A5-497E-9353-DEEF6326CD0D
SUMMARY:AURORA
DTSTAMP:20250106T115253Z
DESCRIPTION:
X-ALT-DESC;FMTTYPE=text/html:
X-ACCESS:1
X-HITS:158
X-URL:
X-COLOR:23BA18
END:VEVENT
END:VCALENDAR