BEGIN:VCALENDAR
VERSION:2.0
PRODID:DPCALENDAR
CALSCALE:GREGORIAN
BEGIN:VTIMEZONE
TZID:UTC
X-MICROSOFT-CDO-TZID:0
END:VTIMEZONE
X-WR-TIMEZONE:UTC
BEGIN:VEVENT
DTSTART;TZID=UTC:20250402T180000
DTEND;TZID=UTC:20250402T193000
UID:C0BCFC8C-9F62-4C61-AF18-34B528EA8EEB
SUMMARY:UHKE PRINTSESS 
DTSTAMP:20250227T125639Z
DESCRIPTION:
X-ALT-DESC;FMTTYPE=text/html:
X-ACCESS:1
X-HITS:341
X-URL:
X-COLOR:23BA18
END:VEVENT
END:VCALENDAR