BEGIN:VCALENDAR
VERSION:2.0
PRODID:DPCALENDAR
CALSCALE:GREGORIAN
BEGIN:VTIMEZONE
TZID:UTC
X-MICROSOFT-CDO-TZID:0
END:VTIMEZONE
X-WR-TIMEZONE:UTC
BEGIN:VEVENT
DTSTART;TZID=UTC:20250511T160000
DTEND;TZID=UTC:20250511T173000
UID:83ADE400-DC4C-4DC6-989F-8D1BA69AE233
SUMMARY:OCHI LEGEND 
DTSTAMP:20250506T121716Z
DESCRIPTION:
X-ALT-DESC;FMTTYPE=text/html:
X-ACCESS:1
X-HITS:232
X-URL:
X-COLOR:23BA18
END:VEVENT
END:VCALENDAR