BEGIN:VCALENDAR
VERSION:2.0
PRODID:DPCALENDAR
CALSCALE:GREGORIAN
BEGIN:VTIMEZONE
TZID:UTC
X-MICROSOFT-CDO-TZID:0
END:VTIMEZONE
X-WR-TIMEZONE:UTC
BEGIN:VEVENT
DTSTART;TZID=UTC:20250514T200000
DTEND;TZID=UTC:20250514T213000
UID:5E16E98D-A953-490D-947A-28556D718505
SUMMARY:MÄNGURI SÜDA 
DTSTAMP:20250506T122029Z
DESCRIPTION:
X-ALT-DESC;FMTTYPE=text/html:
X-ACCESS:1
X-HITS:273
X-URL:
X-COLOR:23BA18
END:VEVENT
END:VCALENDAR