BEGIN:VCALENDAR
VERSION:2.0
PRODID:DPCALENDAR
CALSCALE:GREGORIAN
BEGIN:VTIMEZONE
TZID:UTC
X-MICROSOFT-CDO-TZID:0
END:VTIMEZONE
X-WR-TIMEZONE:UTC
BEGIN:VEVENT
DTSTART;TZID=UTC:20260601T100000
DTEND;TZID=UTC:20260601T190000
UID:5832FB58-EFE6-4942-AB9D-BDFCE8C9A94D
SUMMARY:Lastefestival Kärdla laululava juures
DTSTAMP:20251024T105526Z
DESCRIPTION:\N	Juunil  Lastefestival Kärdla Linnapargis laululava juures\N\N\NLastefestivalil on Tsirkus,\N\Nbatuudid,\N\Ntöötoad,\N\Npääste- ja politseitehnika esitlused,\N\Nisetegevuskontserdid,\N\Npannkoogid, Ruffi ja palju muud põnevat.\N
X-ALT-DESC;FMTTYPE=text/html:<ol>	<li>Juunil&nbsp; Lastefestival Kärdla Linnapargis laululava juures</li></ol><p>Lastefestivalil on&nbsp;Tsirkus,</p><p>batuudid,</p><p>töötoad,</p><p>pääste- ja politseitehnika esitlused,</p><p>isetegevuskontserdid,</p><p>pannkoogid, Ruffi ja palju muud põnevat.</p>
LAST-MODIFIED:20260212T085243Z
X-ACCESS:1
X-HITS:239
X-URL:
X-COLOR:8E31CC
END:VEVENT
END:VCALENDAR