BEGIN:VCALENDAR
VERSION:2.0
PRODID:DPCALENDAR
CALSCALE:GREGORIAN
BEGIN:VTIMEZONE
TZID:UTC
X-MICROSOFT-CDO-TZID:0
END:VTIMEZONE
X-WR-TIMEZONE:UTC
BEGIN:VEVENT
DTSTART;TZID=UTC:20251118T180000
DTEND;TZID=UTC:20251118T190000
UID:F66C1BC2-EBD1-41A6-9ADB-0A3486C30A8A
SUMMARY:Pime tuba - Hiiu Naaditeatri etendus
DTSTAMP:20251104T152022Z
DESCRIPTION:
X-ALT-DESC;FMTTYPE=text/html:
X-ACCESS:1
X-HITS:340
X-URL:
X-COLOR:1BA8A8
END:VEVENT
END:VCALENDAR